BEGIN:VCALENDAR
VERSION:2.0
PRODID:-//GFWC Lutz-Land O&#039;Lakes Woman&#039;s Club - ECPv6.15.13//NONSGML v1.0//EN
CALSCALE:GREGORIAN
METHOD:PUBLISH
X-ORIGINAL-URL:https://gfwclutzlandolakeswomansclub.org
X-WR-CALDESC:Events for GFWC Lutz-Land O&#039;Lakes Woman&#039;s Club
REFRESH-INTERVAL;VALUE=DURATION:PT1H
X-Robots-Tag:noindex
X-PUBLISHED-TTL:PT1H
BEGIN:VTIMEZONE
TZID:America/New_York
BEGIN:DAYLIGHT
TZOFFSETFROM:-0500
TZOFFSETTO:-0400
TZNAME:EDT
DTSTART:20250309T070000
END:DAYLIGHT
BEGIN:STANDARD
TZOFFSETFROM:-0400
TZOFFSETTO:-0500
TZNAME:EST
DTSTART:20251102T060000
END:STANDARD
BEGIN:DAYLIGHT
TZOFFSETFROM:-0500
TZOFFSETTO:-0400
TZNAME:EDT
DTSTART:20260308T070000
END:DAYLIGHT
BEGIN:STANDARD
TZOFFSETFROM:-0400
TZOFFSETTO:-0500
TZNAME:EST
DTSTART:20261101T060000
END:STANDARD
BEGIN:DAYLIGHT
TZOFFSETFROM:-0500
TZOFFSETTO:-0400
TZNAME:EDT
DTSTART:20270314T070000
END:DAYLIGHT
BEGIN:STANDARD
TZOFFSETFROM:-0400
TZOFFSETTO:-0500
TZNAME:EST
DTSTART:20271107T060000
END:STANDARD
END:VTIMEZONE
BEGIN:VEVENT
DTSTART;TZID=America/New_York:20260306T080000
DTEND;TZID=America/New_York:20260306T130000
DTSTAMP:20260424T010538
CREATED:20260126T122242Z
LAST-MODIFIED:20260130T185813Z
UID:7311-1772784000-1772802000@gfwclutzlandolakeswomansclub.org
SUMMARY:Flea Market
DESCRIPTION:
URL:https://gfwclutzlandolakeswomansclub.org/event/flea-market/
LOCATION:Old Lutz School\, 18819 U. S. Hwy. 41\, Lutz\, FL\, 34638\, United States
END:VEVENT
BEGIN:VEVENT
DTSTART;TZID=America/New_York:20260307T080000
DTEND;TZID=America/New_York:20260307T130000
DTSTAMP:20260424T010538
CREATED:20260126T122559Z
LAST-MODIFIED:20260130T183127Z
UID:7314-1772870400-1772888400@gfwclutzlandolakeswomansclub.org
SUMMARY:Flea Market
DESCRIPTION:
URL:https://gfwclutzlandolakeswomansclub.org/event/flea-market-2/
LOCATION:Old Lutz School\, 18819 U. S. Hwy. 41\, Lutz\, FL\, 34638\, United States
END:VEVENT
BEGIN:VEVENT
DTSTART;TZID=America/New_York:20260311T193000
DTEND;TZID=America/New_York:20260311T210000
DTSTAMP:20260424T010538
CREATED:20260303T233802Z
LAST-MODIFIED:20260303T233802Z
UID:7452-1773257400-1773262800@gfwclutzlandolakeswomansclub.org
SUMMARY:Flight of Honor
DESCRIPTION:Welcome returning Women Veterans from their trip to Washington DC. at Lakeland Linder International Airport\, 3900 Don Emerson Dr.\, Lakeland\, Fl.  33811 \n 
URL:https://gfwclutzlandolakeswomansclub.org/event/flight-of-honor/
LOCATION:FL
END:VEVENT
BEGIN:VEVENT
DTSTART;TZID=America/New_York:20260312T100000
DTEND;TZID=America/New_York:20260312T120000
DTSTAMP:20260424T010538
CREATED:20260303T233418Z
LAST-MODIFIED:20260303T233418Z
UID:7450-1773309600-1773316800@gfwclutzlandolakeswomansclub.org
SUMMARY:Crafts
DESCRIPTION:
URL:https://gfwclutzlandolakeswomansclub.org/event/crafts-6/
LOCATION:Lutz Community Center\, 98 1st Ave. NW\, Lutz\, 33548\, United States
END:VEVENT
BEGIN:VEVENT
DTSTART;TZID=America/New_York:20260313T100000
DTEND;TZID=America/New_York:20260313T120000
DTSTAMP:20260424T010538
CREATED:20260305T015007Z
LAST-MODIFIED:20260305T015406Z
UID:7454-1773396000-1773403200@gfwclutzlandolakeswomansclub.org
SUMMARY:Walk In the Park (Brooker Creek Preserve)
DESCRIPTION:The Environment CSP is taking a “Walk in the Park” at Brooker Creek Preserve on 3/13 at 10 a.m.  The Preserve address is 3940 Keystone Road\, Tarpon Springs\, Fl.  The Education Center is a small museum with many displays.  Smooth board walks take you from the parking lot to the Education Center (approximately .2 mile).  There are benches at the beginning of the walk and in the middle as well as at the Center itself. \nEither meet us at the Education Center at 10 a.m. or if you would like to carpool\, meet us at the Lutz Community Center at 9:15 a.m.  Please wear your green shirts and bring a water bottle and hat. \nAll members and family attending this event are eligible to win the River Otter shown below.  Come out and enjoy the outdoors before the heat of summer starts. \n \n 
URL:https://gfwclutzlandolakeswomansclub.org/event/walk-in-the-park-brooker-creek-preserve/
LOCATION:FL
END:VEVENT
BEGIN:VEVENT
DTSTART;TZID=America/New_York:20260316T123000
DTEND;TZID=America/New_York:20260316T140000
DTSTAMP:20260424T010538
CREATED:20260305T015259Z
LAST-MODIFIED:20260305T015259Z
UID:7457-1773664200-1773669600@gfwclutzlandolakeswomansclub.org
SUMMARY:ESO Book Club
DESCRIPTION:Book Discussion:  “Fahrenheit 451” by Ray Bradbury
URL:https://gfwclutzlandolakeswomansclub.org/event/eso-book-club-5/
LOCATION:Brunchies at Carrollwood\, 14366 N. Dale Mabry Hwy.\, Land O Lakes\, FL\, 34638-6058\, United States
END:VEVENT
BEGIN:VEVENT
DTSTART;TZID=America/New_York:20260326T100000
DTEND;TZID=America/New_York:20260326T120000
DTSTAMP:20260424T010538
CREATED:20260305T015548Z
LAST-MODIFIED:20260305T015548Z
UID:7459-1774519200-1774526400@gfwclutzlandolakeswomansclub.org
SUMMARY:General Meeting
DESCRIPTION:
URL:https://gfwclutzlandolakeswomansclub.org/event/general-meeting-5/
LOCATION:Heritage Park\,\, 5401 Land O' Lakes Blvd.\, Land O Lakes\, FL\, United States
END:VEVENT
END:VCALENDAR