BEGIN:VCALENDAR
VERSION:2.0
PRODID:-//GFWC Lutz-Land O&#039;Lakes Woman&#039;s Club - ECPv6.15.13//NONSGML v1.0//EN
CALSCALE:GREGORIAN
METHOD:PUBLISH
X-WR-CALNAME:GFWC Lutz-Land O&#039;Lakes Woman&#039;s Club
X-ORIGINAL-URL:https://gfwclutzlandolakeswomansclub.org
X-WR-CALDESC:Events for GFWC Lutz-Land O&#039;Lakes Woman&#039;s Club
REFRESH-INTERVAL;VALUE=DURATION:PT1H
X-Robots-Tag:noindex
X-PUBLISHED-TTL:PT1H
BEGIN:VTIMEZONE
TZID:America/New_York
BEGIN:DAYLIGHT
TZOFFSETFROM:-0500
TZOFFSETTO:-0400
TZNAME:EDT
DTSTART:20250309T070000
END:DAYLIGHT
BEGIN:STANDARD
TZOFFSETFROM:-0400
TZOFFSETTO:-0500
TZNAME:EST
DTSTART:20251102T060000
END:STANDARD
BEGIN:DAYLIGHT
TZOFFSETFROM:-0500
TZOFFSETTO:-0400
TZNAME:EDT
DTSTART:20260308T070000
END:DAYLIGHT
BEGIN:STANDARD
TZOFFSETFROM:-0400
TZOFFSETTO:-0500
TZNAME:EST
DTSTART:20261101T060000
END:STANDARD
BEGIN:DAYLIGHT
TZOFFSETFROM:-0500
TZOFFSETTO:-0400
TZNAME:EDT
DTSTART:20270314T070000
END:DAYLIGHT
BEGIN:STANDARD
TZOFFSETFROM:-0400
TZOFFSETTO:-0500
TZNAME:EST
DTSTART:20271107T060000
END:STANDARD
END:VTIMEZONE
BEGIN:VEVENT
DTSTART;TZID=America/New_York:20260424T080000
DTEND;TZID=America/New_York:20260425T170000
DTSTAMP:20260424T024125
CREATED:20260403T144905Z
LAST-MODIFIED:20260403T144905Z
UID:7533-1777017600-1777136400@gfwclutzlandolakeswomansclub.org
SUMMARY:Operation Stand Down: Pasco County
DESCRIPTION:If you would like to volunteer\, call Sandi.
URL:https://gfwclutzlandolakeswomansclub.org/event/operation-stand-down-pasco-county/
LOCATION:FL
END:VEVENT
END:VCALENDAR